BEGIN:VCALENDAR
VERSION:2.0
PRODID:-//Tiefengrund Rosenort Mennonite Church - ECPv6.15.20//NONSGML v1.0//EN
CALSCALE:GREGORIAN
METHOD:PUBLISH
X-ORIGINAL-URL:https://tiefengrundchurch.ca
X-WR-CALDESC:Events for Tiefengrund Rosenort Mennonite Church
REFRESH-INTERVAL;VALUE=DURATION:PT1H
X-Robots-Tag:noindex
X-PUBLISHED-TTL:PT1H
BEGIN:VTIMEZONE
TZID:UTC
BEGIN:STANDARD
TZOFFSETFROM:+0000
TZOFFSETTO:+0000
TZNAME:UTC
DTSTART:20210101T000000
END:STANDARD
END:VTIMEZONE
BEGIN:VEVENT
DTSTART;TZID=UTC:20220806T140000
DTEND;TZID=UTC:20220806T140000
DTSTAMP:20260424T054445
CREATED:20220724T041049Z
LAST-MODIFIED:20220731T023429Z
UID:275-1659794400-1659794400@tiefengrundchurch.ca
SUMMARY:Celebration of the Life of Jon Pedersen
DESCRIPTION:A celebration of Jon Pedersen’s life will be held on Saturday\, August 6\, 2022 at 2:00pm at Tiefengrund Rosenort Mennonite Church\, followed by a gathering of friends and family at the Pederson farm. Everyone is welcome.
URL:https://tiefengrundchurch.ca/event/celebration-of-the-life-of-jon-pedersen/
LOCATION:Tiefengrund Rosenort Mennonite Church
END:VEVENT
BEGIN:VEVENT
DTSTART;TZID=UTC:20220731T103000
DTEND;TZID=UTC:20220731T113000
DTSTAMP:20260424T054445
CREATED:20220724T040521Z
LAST-MODIFIED:20220724T040521Z
UID:265-1659263400-1659267000@tiefengrundchurch.ca
SUMMARY:Church Service
DESCRIPTION:Worship Leader: Les Regier \nSpeaker: Patrick Preheim \n 
URL:https://tiefengrundchurch.ca/event/church-service-3/
END:VEVENT
BEGIN:VEVENT
DTSTART;TZID=UTC:20220724T103000
DTEND;TZID=UTC:20220724T113000
DTSTAMP:20260424T054445
CREATED:20220724T035034Z
LAST-MODIFIED:20220724T035034Z
UID:257-1658658600-1658662200@tiefengrundchurch.ca
SUMMARY:Church Service
DESCRIPTION:Worship Leader: Elaine Janzen \nSpeaker: Zach & Terry Stefaniuk
URL:https://tiefengrundchurch.ca/event/church-service-2/
LOCATION:Tiefengrund Rosenort Mennonite Church
END:VEVENT
BEGIN:VEVENT
DTSTART;TZID=UTC:20220619T103000
DTEND;TZID=UTC:20220619T130000
DTSTAMP:20260424T054445
CREATED:20220615T152938Z
LAST-MODIFIED:20220615T181652Z
UID:103-1655634600-1655643600@tiefengrundchurch.ca
SUMMARY:Church Picnic
DESCRIPTION:Worship Leader: Rob Regier \nMusic: Laurie Regier \nSpeaker: Doug Amstutz
URL:https://tiefengrundchurch.ca/event/church-service/
LOCATION:Youth Farm Log Cabin
END:VEVENT
END:VCALENDAR